BEGIN:VCALENDAR
VERSION:2.0
PRODID:-//wp-events-plugin.com//7.2.3.1//EN
TZID:Europe/Vienna
X-WR-TIMEZONE:Europe/Vienna
BEGIN:VEVENT
UID:25@weiden-march.at
DTSTART;TZID=Europe/Vienna:20260815T150000
DTEND;TZID=Europe/Vienna:20260815T235900
DTSTAMP:20260409T053742Z
URL:https://www.weiden-march.at/termine/1-baumgartner-kellergassenfest-2/
SUMMARY:1. Baumgartner Kellergassenfest
DESCRIPTION:Beginn: 15:00 Uhr
END:VEVENT
BEGIN:VTIMEZONE
TZID:Europe/Vienna
X-LIC-LOCATION:Europe/Vienna
BEGIN:DAYLIGHT
DTSTART:20260329T030000
TZOFFSETFROM:+0100
TZOFFSETTO:+0200
TZNAME:CEST
END:DAYLIGHT
END:VTIMEZONE
END:VCALENDAR