BEGIN:VCALENDAR
VERSION:2.0
PRODID:-//wp-events-plugin.com//7.2.3.1//EN
TZID:Europe/Vienna
X-WR-TIMEZONE:Europe/Vienna
BEGIN:VEVENT
UID:12@weiden-march.at
DTSTART;TZID=Europe/Vienna:20260830T100000
DTEND;TZID=Europe/Vienna:20260830T140000
DTSTAMP:20260225T070531Z
URL:https://www.weiden-march.at/termine/schultaschenweihe-und-pfarrheurige
 r/
SUMMARY:Schultaschenweihe und Pfarrheuriger
DESCRIPTION:10:00 Uhr Messe mit Schultaschenweihnung in der Pfarrkirche Obe
 rweiden\n\nanschließend Kinderfest mit Pfarrheurigen
END:VEVENT
BEGIN:VTIMEZONE
TZID:Europe/Vienna
X-LIC-LOCATION:Europe/Vienna
BEGIN:DAYLIGHT
DTSTART:20260329T030000
TZOFFSETFROM:+0100
TZOFFSETTO:+0200
TZNAME:CEST
END:DAYLIGHT
END:VTIMEZONE
END:VCALENDAR